BEGIN:VCALENDAR
VERSION:2.0
CALSCALE:GREGORIAN
METHOD:PUBLISH
X-WR-TIMEZONE:Australia/Sydney
BEGIN:VTIMEZONE
TZID:Australia/Sydney
BEGIN:STANDARD
TZNAME:AEST
DTSTART:19700101T000000
TZOFFSETFROM:+1100
TZOFFSETTO:+1000
END:STANDARD
END:VTIMEZONE
BEGIN:VEVENT
DTSTART;TZID=Australia/Sydney:20201013T130000
DTEND;TZID=Australia/Sydney:20201013T150000
DTSTAMP:20260420T064910
UID:224
SUMMARY:School Photos
DESCRIPTION:




Scaddan Primary School will be having school photos taken on Tuesday 13th October in the afternoon.Could all students please bring their formal school shirt to wear in the photo.


SEQUENCE:0
STATUS:CONFIRMED
TRANSP:OPAQUE
END:VEVENT
END:VCALENDAR