BEGIN:VCALENDAR
VERSION:2.0
CALSCALE:GREGORIAN
METHOD:PUBLISH
X-WR-TIMEZONE:Australia/Sydney
BEGIN:VTIMEZONE
TZID:Australia/Sydney
BEGIN:STANDARD
TZNAME:AEST
END:STANDARD
END:VTIMEZONE
BEGIN:VEVENT
DTSTART;TZID=Australia/Sydney:20210225T103000
DTEND;TZID=Australia/Sydney:20210225T000000
DTSTAMP:20210228T223303
UID:256
SUMMARY:P&amp;C AGM and General Meeting
DESCRIPTION:




P&amp;amp;C AGM and General Meeting held in the library


SEQUENCE:0
STATUS:CONFIRMED
TRANSP:OPAQUE
END:VEVENT
END:VCALENDAR